BEGIN:VCALENDAR
VERSION:2.0
PRODID:-//ChamberMaster//Event Calendar 2.0//EN
METHOD:PUBLISH
X-PUBLISHED-TTL:P1H
REFRESH-INTERVAL:P1H
CALSCALE:GREGORIAN
BEGIN:VTIMEZONE
TZID:America/Chicago
BEGIN:DAYLIGHT
RRULE:FREQ=YEARLY;BYMONTH=3;BYDAY=2SU
DTSTART:20070101T000000
TZOFFSETFROM:-0600
TZOFFSETTO:-0500
TZNAME:Central Daylight Time
END:DAYLIGHT
BEGIN:STANDARD
RRULE:FREQ=YEARLY;BYMONTH=11;BYDAY=1SU
DTSTART:20070101T000000
TZOFFSETFROM:-0500
TZOFFSETTO:-0600
TZNAME:Central Standard Time
END:STANDARD
END:VTIMEZONE
BEGIN:VEVENT
DTSTART;TZID=America/Chicago:20260711T100000
DTEND;TZID=America/Chicago:20260711T130000
X-MICROSOFT-CDO-ALLDAYEVENT:FALSE
SUMMARY:Unplug Olympic Day - Woodridge Park District
DESCRIPTION:Parents\, have your kids unplug their electronic devices and plug into fun! They will run\, jump\, throw and kick their way to the top of the podium as we put a twist on the Olympic games and offer our own summer events. The Woodridge Park District's Olympic event will encourage your kids to get out and play and live a happier and healthier life.
X-ALT-DESC;FMTTYPE=text/html:<!DOCTYPE html><html><head><title></title></head><body aria-disabled="false"><p>Parents\, have your kids unplug their electronic devices and plug into fun! They will run\, jump\, throw and kick their way to the top of the podium as we put a twist on the Olympic games and offer our own summer events. The Woodridge Park District&#39\;s Olympic event will encourage your kids to get out and play and live a happier and healthier life.</p></body></html>
LOCATION:7200 Janes Ave Woodridge IL
UID:e.3289.1445352
SEQUENCE:3
DTSTAMP:20260421T200538Z
URL:https://illinoisparkandrecreationassociation.growthzoneapp.com/affiliate-calendar/Details/unplug-olympic-day-woodridge-park-district-1711848?sourceTypeId=Hub
END:VEVENT
END:VCALENDAR
