BEGIN:VCALENDAR
VERSION:2.0
PRODID:-//ChamberMaster//Event Calendar 2.0//EN
METHOD:PUBLISH
X-PUBLISHED-TTL:P1H
REFRESH-INTERVAL:P1H
CALSCALE:GREGORIAN
BEGIN:VTIMEZONE
TZID:America/Chicago
BEGIN:DAYLIGHT
RRULE:FREQ=YEARLY;BYMONTH=3;BYDAY=2SU
DTSTART:20070101T000000
TZOFFSETFROM:-0600
TZOFFSETTO:-0500
TZNAME:Central Daylight Time
END:DAYLIGHT
BEGIN:STANDARD
RRULE:FREQ=YEARLY;BYMONTH=11;BYDAY=1SU
DTSTART:20070101T000000
TZOFFSETFROM:-0500
TZOFFSETTO:-0600
TZNAME:Central Standard Time
END:STANDARD
END:VTIMEZONE
BEGIN:VEVENT
DTSTART;TZID=America/Chicago:20260711T100000
DTEND;TZID=America/Chicago:20260711T113000
X-MICROSOFT-CDO-ALLDAYEVENT:FALSE
SUMMARY:Unplug Illinois at the Roselle Park District
DESCRIPTION:Ditch your devices and get outside and Unplug with the Roselle Park District!  Join us at the Scout Lodge for a fun morning of activities\, including a Foam Party!  Don't forget your beach towel and swimsuit.  Look in our brochure for all of the fun ways you can Unplug!
X-ALT-DESC;FMTTYPE=text/html:<!DOCTYPE html><html><head><title></title></head><body aria-disabled="false"><p>Ditch your devices and get outside and Unplug with the Roselle Park District! &nbsp\;Join us at the Scout Lodge for a fun morning of activities\, including a Foam Party! &nbsp\;Don&#39\;t forget your beach towel and swimsuit. &nbsp\;Look in our brochure for all of the fun ways you can Unplug!</p></body></html>
LOCATION:304 E Pine Ave Roselle IL 60172
UID:e.3289.1420427
SEQUENCE:3
DTSTAMP:20260421T200539Z
URL:https://illinoisparkandrecreationassociation.growthzoneapp.com/affiliate-calendar/Details/unplug-illinois-at-the-roselle-park-district-1679201?sourceTypeId=Hub
END:VEVENT
END:VCALENDAR
