BEGIN:VCALENDAR
VERSION:2.0
PRODID:-//ChamberMaster//Event Calendar 2.0//EN
METHOD:PUBLISH
X-PUBLISHED-TTL:P1H
REFRESH-INTERVAL:P1H
CALSCALE:GREGORIAN
BEGIN:VTIMEZONE
TZID:America/Chicago
BEGIN:DAYLIGHT
RRULE:FREQ=YEARLY;BYMONTH=3;BYDAY=2SU
DTSTART:20070101T000000
TZOFFSETFROM:-0600
TZOFFSETTO:-0500
TZNAME:Central Daylight Time
END:DAYLIGHT
BEGIN:STANDARD
RRULE:FREQ=YEARLY;BYMONTH=11;BYDAY=1SU
DTSTART:20070101T000000
TZOFFSETFROM:-0500
TZOFFSETTO:-0600
TZNAME:Central Standard Time
END:STANDARD
END:VTIMEZONE
BEGIN:VEVENT
DTSTART;TZID=America/Chicago:20260711T120000
DTEND;TZID=America/Chicago:20260711T140000
X-MICROSOFT-CDO-ALLDAYEVENT:FALSE
SUMMARY:Unplug Day at the Beach - Winnetka Park District
DESCRIPTION:Unplug at the annual Beach Carnival.  Children will spend the afternoon sliding down a giant 25-ft inflatable water slide\, play in the foam party pit\, play carnival games\, and win prizes.
X-ALT-DESC;FMTTYPE=text/html:<!DOCTYPE html><html><head><title></title></head><body aria-disabled="false"><p>Unplug at the annual Beach Carnival. &nbsp\;Children will spend the afternoon sliding down a giant 25-ft inflatable water slide\, play in the foam party pit\, play carnival games\, and win prizes. &nbsp\;<br style="mso-special-character:line-break\;"><!--[if !supportLineBreakNewLine]--><br style="mso-special-character:line-break\;"><!--[endif]--></p></body></html>
LOCATION:
UID:e.3289.1414162
SEQUENCE:3
DTSTAMP:20260421T200538Z
URL:https://illinoisparkandrecreationassociation.growthzoneapp.com/affiliate-calendar/Details/unplug-day-at-the-beach-winnetka-park-district-1671081?sourceTypeId=Hub
END:VEVENT
END:VCALENDAR
