BEGIN:VCALENDAR
VERSION:2.0
PRODID:-//ChamberMaster//Event Calendar 2.0//EN
METHOD:PUBLISH
X-PUBLISHED-TTL:P1H
REFRESH-INTERVAL:P1H
CALSCALE:GREGORIAN
BEGIN:VTIMEZONE
TZID:America/Chicago
BEGIN:DAYLIGHT
RRULE:FREQ=YEARLY;BYMONTH=3;BYDAY=2SU
DTSTART:20070101T000000
TZOFFSETFROM:-0600
TZOFFSETTO:-0500
TZNAME:Central Daylight Time
END:DAYLIGHT
BEGIN:STANDARD
RRULE:FREQ=YEARLY;BYMONTH=11;BYDAY=1SU
DTSTART:20070101T000000
TZOFFSETFROM:-0500
TZOFFSETTO:-0600
TZNAME:Central Standard Time
END:STANDARD
END:VTIMEZONE
BEGIN:VEVENT
DTSTART;TZID=America/Chicago:20260711T100000
DTEND;TZID=America/Chicago:20260711T120000
X-MICROSOFT-CDO-ALLDAYEVENT:FALSE
SUMMARY:Unplug at Arroyo Trails
DESCRIPTION:Escape the digital jungle and jump into Unplug Illinois! Dive into a world of play\, creativity\, friendship\, adventure\, and family fun with the Illinois Parks and Recreation Association's state-wide extravaganza. This free community bash is bursting with fitness\, nature activities\, and surprises galore. Join the Channahon Park District\, the Village of Channahon\, and Three Rivers Public Library in this unplugged celebration!
X-ALT-DESC;FMTTYPE=text/html:<!DOCTYPE html><html><head><title></title></head><body aria-disabled="false"><p><span data-contrast="auto" lang="EN-US" style="-webkit-user-drag: none\; -webkit-tap-highlight-color: transparent\; margin: 0px\; padding: 0px\; user-select: text\; font-variant-ligatures: none !important\; font-size: 9pt\; font-style: normal\; font-variant-caps: normal\; font-weight: 400\; letter-spacing: normal\; orphans: 2\; text-align: left\; text-indent: 0px\; text-transform: none\; widows: 2\; word-spacing: 0px\; -webkit-text-stroke-width: 0px\; white-space: normal\; background-color: rgb(255\, 255\, 255)\; text-decoration-thickness: initial\; text-decoration-style: initial\; text-decoration-color: initial\; color: windowtext\; line-height: 15px\; font-family: Aptos\, Aptos_EmbeddedFont\, Aptos_MSFontService\, sans-serif\;"><span data-ccp-parastyle="SE Program Title" data-ccp-parastyle-defn='{"ObjectId":"e1a0069d-5208-54d2-abd9-e80116bad903|1"\,"ClassId":1073872969\,"Properties":[469777841\,"Futura PT Medium"\,469777844\,"Futura PT Medium"\,469769226\,"Futura PT Medium"\,268442635\,"32"\,335559740\,"240"\,201341983\,"0"\,335559739\,"0"\,201342446\,"1"\,201342447\,"5"\,201342448\,"1"\,201342449\,"1"\,469777842\,""\,469777843\,"Aptos"\,201341986\,"1"\,469775450\,"SE Program Title"\,201340122\,"2"\,134234082\,"true"\,134233614\,"true"\,469778129\,"SEProgramTitle"\,335572020\,"1"\,335551500\,"15707648"\,469778324\,"Normal"]}' style="-webkit-user-drag: none\; -webkit-tap-highlight-color: transparent\; margin: 0px\; padding: 0px\; user-select: text\;">Escape the digital jungle and jump into Unplug Illinois! Dive into a world of play\, creativity\, friendship\, adventure\, and family fun with the Illinois Parks and Recreation Association&rsquo\;s state-wide extravaganza. This free community bash is bursting with fitness\, nature activities\, and surprises galore. Join the Channahon Park District\, the Village of Channahon\, and Three Rivers Public Library in this unplugged celebration!</span></span><span data-ccp-props='{"201341983":0\,"335559739":0\,"335559740":240}' style="-webkit-user-drag: none\; -webkit-tap-highlight-color: transparent\; margin: 0px\; padding: 0px\; user-select: text\; font-size: 9pt\; font-style: normal\; font-variant-ligatures: normal\; font-variant-caps: normal\; font-weight: 400\; letter-spacing: normal\; orphans: 2\; text-align: left\; text-indent: 0px\; text-transform: none\; widows: 2\; word-spacing: 0px\; -webkit-text-stroke-width: 0px\; white-space: normal\; background-color: rgb(255\, 255\, 255)\; text-decoration-thickness: initial\; text-decoration-style: initial\; text-decoration-color: initial\; line-height: 15px\; font-family: Aptos\, Aptos_EmbeddedFont\, Aptos_MSFontService\, sans-serif\; color: windowtext\;">&nbsp\;</span></p></body></html>
LOCATION:25731 W Silver Leaf Cir Channahon IL 60410
UID:e.3289.1420360
SEQUENCE:3
DTSTAMP:20260421T195154Z
URL:https://illinoisparkandrecreationassociation.growthzoneapp.com/affiliate-calendar/Details/unplug-at-arroyo-trails-1679136?sourceTypeId=Hub
END:VEVENT
END:VCALENDAR
