BEGIN:VCALENDAR
VERSION:2.0
PRODID:-//ChamberMaster//Event Calendar 2.0//EN
METHOD:PUBLISH
X-PUBLISHED-TTL:P1H
REFRESH-INTERVAL:P1H
CALSCALE:GREGORIAN
BEGIN:VTIMEZONE
TZID:America/Chicago
BEGIN:DAYLIGHT
RRULE:FREQ=YEARLY;BYMONTH=3;BYDAY=2SU
DTSTART:20070101T000000
TZOFFSETFROM:-0600
TZOFFSETTO:-0500
TZNAME:Central Daylight Time
END:DAYLIGHT
BEGIN:STANDARD
RRULE:FREQ=YEARLY;BYMONTH=11;BYDAY=1SU
DTSTART:20070101T000000
TZOFFSETFROM:-0500
TZOFFSETTO:-0600
TZNAME:Central Standard Time
END:STANDARD
END:VTIMEZONE
BEGIN:VEVENT
DTSTART;TZID=America/Chicago:20260710T100000
DTEND;TZID=America/Chicago:20260710T113000
X-MICROSOFT-CDO-ALLDAYEVENT:FALSE
SUMMARY:Plug into Nature - Wheaton Park District
DESCRIPTION:Celebrate Unplug Illinois Day!FREE!All AgesLincoln Marsh joins the Illinois Park and Recreation Association community awareness campaign to "Unplug Illinois". Ditch your electronic devices and join us to plug into nature at the Prairie Patch Play Area. Enjoy activities\, crafts\, and open play!
X-ALT-DESC;FMTTYPE=text/html:<!DOCTYPE html><html><head><title></title></head><body aria-disabled="false"><div style='margin: 0px\; padding: 0px\; box-sizing: border-box\; color: rgb(57\, 54\, 79)\; font-family: "Neue Plak"\, -apple-system\, BlinkMacSystemFont\, Roboto\, "Helvetica Neue"\, Helvetica\, Tahoma\, Arial\, sans-serif\; font-size: 14px\; font-style: normal\; font-variant-ligatures: normal\; font-variant-caps: normal\; font-weight: 400\; letter-spacing: normal\; orphans: 2\; text-align: start\; text-indent: 0px\; text-transform: none\; widows: 2\; word-spacing: 0px\; -webkit-text-stroke-width: 0px\; white-space: normal\; background-color: rgb(255\, 255\, 255)\; text-decoration-thickness: initial\; text-decoration-style: initial\; text-decoration-color: initial\;'><div style='margin: 0px 0px 23.994px\; padding: 0px\; box-sizing: border-box\; color: rgb(88\, 81\, 99)\; font: 400 18px / 1.333 "Neue Plak"\; letter-spacing: 0.1px\; word-break: break-word\;'>Celebrate Unplug Illinois Day!</div></div><div style='margin: 0px\; padding: 0px\; box-sizing: border-box\; text-rendering: optimizelegibility\; color: rgb(57\, 54\, 79)\; font-family: "Neue Plak"\, -apple-system\, BlinkMacSystemFont\, Roboto\, "Helvetica Neue"\, Helvetica\, Tahoma\, Arial\, sans-serif\; font-size: 14px\; font-style: normal\; font-variant-ligatures: normal\; font-variant-caps: normal\; font-weight: 400\; letter-spacing: normal\; orphans: 2\; text-align: start\; text-indent: 0px\; text-transform: none\; widows: 2\; word-spacing: 0px\; -webkit-text-stroke-width: 0px\; white-space: normal\; background-color: rgb(255\, 255\, 255)\; text-decoration-thickness: initial\; text-decoration-style: initial\; text-decoration-color: initial\;'><div style="margin: 0px\; padding: 0px\; text-align: left\; box-sizing: border-box\;"><p style='margin: 12px 0px\; padding: 0px\; box-sizing: border-box\; color: rgb(88\, 81\, 99)\; font: 400 18px / 1.333 "Neue Plak"\; letter-spacing: 0.1px\;'>FREE!</p><p style='margin: 12px 0px\; padding: 0px\; box-sizing: border-box\; color: rgb(88\, 81\, 99)\; font: 400 18px / 1.333 "Neue Plak"\; letter-spacing: 0.1px\;'>All Ages</p><p style='margin: 12px 0px\; padding: 0px\; box-sizing: border-box\; color: rgb(88\, 81\, 99)\; font: 400 18px / 1.333 "Neue Plak"\; letter-spacing: 0.1px\;'>Lincoln Marsh joins the Illinois Park and Recreation Association community awareness campaign to &ldquo\;Unplug Illinois&rdquo\;. Ditch your electronic devices and join us to plug into nature at the Prairie Patch Play Area. Enjoy activities\, crafts\, and open play!</p></div></div></body></html>
LOCATION:1000 W. Lincoln Ave. Wheaton IL 60187
UID:e.3289.1405651
SEQUENCE:3
DTSTAMP:20260421T195222Z
URL:https://illinoisparkandrecreationassociation.growthzoneapp.com/affiliate-calendar/Details/plug-into-nature-wheaton-park-district-1661305?sourceTypeId=Hub
END:VEVENT
END:VCALENDAR
