BEGIN:VCALENDAR
VERSION:2.0
PRODID:-//ChamberMaster//Event Calendar 2.0//EN
METHOD:PUBLISH
X-PUBLISHED-TTL:P1H
REFRESH-INTERVAL:P1H
CALSCALE:GREGORIAN
BEGIN:VTIMEZONE
TZID:America/Chicago
BEGIN:DAYLIGHT
RRULE:FREQ=YEARLY;BYMONTH=3;BYDAY=2SU
DTSTART:20070101T000000
TZOFFSETFROM:-0600
TZOFFSETTO:-0500
TZNAME:Central Daylight Time
END:DAYLIGHT
BEGIN:STANDARD
RRULE:FREQ=YEARLY;BYMONTH=11;BYDAY=1SU
DTSTART:20070101T000000
TZOFFSETFROM:-0500
TZOFFSETTO:-0600
TZNAME:Central Standard Time
END:STANDARD
END:VTIMEZONE
BEGIN:VEVENT
DTSTART;TZID=America/Chicago:20260711T083000
DTEND;TZID=America/Chicago:20260711T103000
X-MICROSOFT-CDO-ALLDAYEVENT:FALSE
SUMMARY:Lazy River 5k at the Vernon Hills Park District
DESCRIPTION:Experience the lazy river in a whole new way! Participants will walk or run a 5K distance inside the river\, no tubes\, no floating\, just steady movement and splashing fun. This unique aquatic event is great for walkers\, runners\, and anyone looking for a cool\, low-impact workout. Go at your own pace and enjoy a fitness challenge that's anything but lazy. Participants will receive the first ever Lazy River 5k visor. Ages 12+
X-ALT-DESC;FMTTYPE=text/html:<!DOCTYPE html><html><head><title></title></head><body aria-disabled="false"><p>Experience the lazy river in a whole new way! Participants will walk or run a 5K distance inside the river\, no tubes\, no floating\, just steady movement and splashing fun. This unique aquatic event is great for walkers\, runners\, and anyone looking for a cool\, low-impact workout. Go at your own pace and enjoy a fitness challenge that&#39\;s anything but lazy. Participants will receive the first ever Lazy River 5k visor. Ages 12+</p></body></html>
LOCATION:
UID:e.3289.1447093
SEQUENCE:3
DTSTAMP:20260421T200536Z
URL:https://illinoisparkandrecreationassociation.growthzoneapp.com/affiliate-calendar/Details/lazy-river-5k-at-the-vernon-hills-park-district-1713910?sourceTypeId=Hub
END:VEVENT
END:VCALENDAR
