BEGIN:VCALENDAR
VERSION:2.0
PRODID:-//ChamberMaster//Event Calendar 2.0//EN
METHOD:PUBLISH
X-PUBLISHED-TTL:P1H
REFRESH-INTERVAL:P1H
CALSCALE:GREGORIAN
BEGIN:VTIMEZONE
TZID:America/Chicago
BEGIN:DAYLIGHT
RRULE:FREQ=YEARLY;BYMONTH=3;BYDAY=2SU
DTSTART:20070101T000000
TZOFFSETFROM:-0600
TZOFFSETTO:-0500
TZNAME:Central Daylight Time
END:DAYLIGHT
BEGIN:STANDARD
RRULE:FREQ=YEARLY;BYMONTH=11;BYDAY=1SU
DTSTART:20070101T000000
TZOFFSETFROM:-0500
TZOFFSETTO:-0600
TZNAME:Central Standard Time
END:STANDARD
END:VTIMEZONE
BEGIN:VEVENT
DTSTART;TZID=America/Chicago:20260711T110000
DTEND;TZID=America/Chicago:20260711T190000
X-MICROSOFT-CDO-ALLDAYEVENT:FALSE
SUMMARY:Decorate the Deck at the Bartlett Park District
DESCRIPTION:Unplug Illinois! Join us on the pool deck and showcase your artistic talents with colorful chalk drawings. Chalk will be provided just bring your creativity!
X-ALT-DESC;FMTTYPE=text/html:<!DOCTYPE html><html><head><title></title></head><body aria-disabled="false"><p>Unplug Illinois! Join us on the pool deck and showcase your artistic talents with colorful chalk drawings. Chalk will be provided&mdash\;just bring your creativity!</p></body></html>
LOCATION:620 W Stearns Road Bartlett IL 60103
UID:e.3289.1420286
SEQUENCE:3
DTSTAMP:20260421T195249Z
URL:https://illinoisparkandrecreationassociation.growthzoneapp.com/affiliate-calendar/Details/decorate-the-deck-at-the-bartlett-park-district-1679062?sourceTypeId=Hub
END:VEVENT
END:VCALENDAR
