BEGIN:VCALENDAR
VERSION:2.0
PRODID:-//ChamberMaster//Event Calendar 2.0//EN
METHOD:PUBLISH
X-PUBLISHED-TTL:P1H
REFRESH-INTERVAL:P1H
CALSCALE:GREGORIAN
BEGIN:VTIMEZONE
TZID:America/Chicago
BEGIN:DAYLIGHT
RRULE:FREQ=YEARLY;BYMONTH=3;BYDAY=2SU
DTSTART:20070101T000000
TZOFFSETFROM:-0600
TZOFFSETTO:-0500
TZNAME:Central Daylight Time
END:DAYLIGHT
BEGIN:STANDARD
RRULE:FREQ=YEARLY;BYMONTH=11;BYDAY=1SU
DTSTART:20070101T000000
TZOFFSETFROM:-0500
TZOFFSETTO:-0600
TZNAME:Central Standard Time
END:STANDARD
END:VTIMEZONE
BEGIN:VEVENT
DTSTART;TZID=America/Chicago:20260711T100000
DTEND;TZID=America/Chicago:20260711T113000
X-MICROSOFT-CDO-ALLDAYEVENT:FALSE
SUMMARY:Chalk the Walk at Wauconda Park District
DESCRIPTION:Celebrate Unplug Illinois Day with us and chalk it up in this sidewalk chalk drawing contest at Osage Park (124 Osage Street). Register one person per family to reserve your sidewalk square "canvas" to draw amazing chalk artwork. Chalk is provided\, but you are welcome to bring your own as well.
X-ALT-DESC;FMTTYPE=text/html:<!DOCTYPE html><html><head><title></title></head><body aria-disabled="false"><p>Celebrate Unplug Illinois Day with us and chalk it up in this sidewalk chalk drawing contest at Osage Park (124 Osage Street). Register one person per family to reserve your sidewalk square &quot\;canvas&quot\; to draw amazing chalk artwork. Chalk is provided\, but you are welcome to bring your own as well.</p></body></html>
LOCATION:124 Osage Street Wauconda IL 60084
UID:e.3289.1445354
SEQUENCE:3
DTSTAMP:20260421T200537Z
URL:https://illinoisparkandrecreationassociation.growthzoneapp.com/affiliate-calendar/Details/chalk-the-walk-at-wauconda-park-district-1711850?sourceTypeId=Hub
END:VEVENT
END:VCALENDAR
