BEGIN:VCALENDAR
VERSION:2.0
PRODID:-//ChamberMaster//Event Calendar 2.0//EN
METHOD:PUBLISH
X-PUBLISHED-TTL:P1H
REFRESH-INTERVAL:P1H
CALSCALE:GREGORIAN
BEGIN:VTIMEZONE
TZID:America/Chicago
BEGIN:DAYLIGHT
RRULE:FREQ=YEARLY;BYMONTH=3;BYDAY=2SU
DTSTART:20070101T000000
TZOFFSETFROM:-0600
TZOFFSETTO:-0500
TZNAME:Central Daylight Time
END:DAYLIGHT
BEGIN:STANDARD
RRULE:FREQ=YEARLY;BYMONTH=11;BYDAY=1SU
DTSTART:20070101T000000
TZOFFSETFROM:-0500
TZOFFSETTO:-0600
TZNAME:Central Standard Time
END:STANDARD
END:VTIMEZONE
BEGIN:VEVENT
DTSTART;TZID=America/Chicago:20260711T180000
DTEND;TZID=America/Chicago:20260711T210000
X-MICROSOFT-CDO-ALLDAYEVENT:FALSE
SUMMARY:Adults Night Out at the Vernon HIlls Park District
DESCRIPTION:Join us for an adults only party at Turtle Creek Waterpark! There will be food trucks\, music\, games and more! Event will be cancelled in case of inclement weather. Ages 21+
X-ALT-DESC;FMTTYPE=text/html:<!DOCTYPE html><html><head><title></title></head><body aria-disabled="false"><p>Join us for an adults only party at Turtle Creek Waterpark! There will be food trucks\, music\, games and more! Event will be cancelled in case of inclement weather. Ages 21+</p></body></html>
LOCATION:
UID:e.3289.1447097
SEQUENCE:3
DTSTAMP:20260421T200535Z
URL:https://illinoisparkandrecreationassociation.growthzoneapp.com/affiliate-calendar/Details/adults-night-out-at-the-vernon-hills-park-district-1713914?sourceTypeId=Hub
END:VEVENT
END:VCALENDAR
