BEGIN:VCALENDAR
VERSION:2.0
PRODID:-//ChamberMaster//Event Calendar 2.0//EN
METHOD:PUBLISH
X-PUBLISHED-TTL:P1H
REFRESH-INTERVAL:P1H
CALSCALE:GREGORIAN
BEGIN:VTIMEZONE
TZID:America/Chicago
BEGIN:DAYLIGHT
RRULE:FREQ=YEARLY;BYMONTH=3;BYDAY=2SU
DTSTART:20070101T000000
TZOFFSETFROM:-0600
TZOFFSETTO:-0500
TZNAME:Central Daylight Time
END:DAYLIGHT
BEGIN:STANDARD
RRULE:FREQ=YEARLY;BYMONTH=11;BYDAY=1SU
DTSTART:20070101T000000
TZOFFSETFROM:-0500
TZOFFSETTO:-0600
TZNAME:Central Standard Time
END:STANDARD
END:VTIMEZONE
BEGIN:VEVENT
DTSTART;TZID=America/Chicago:20260718T090000
DTEND;TZID=America/Chicago:20260718T120000
X-MICROSOFT-CDO-ALLDAYEVENT:FALSE
SUMMARY:Active at the Lakefront - Unplug Illinois
DESCRIPTION:The Village of Fox Lake Parks & Recreation Department invites you to bring your family & friends to join us for a morning of outdoor recreation. This FREE event for all ages includes 45-minute Yoga\, Jazzercise\, and Strength Training Classes. Zenia's Coffee Bar will also be on-site for tea & coffee beverage purchases.
X-ALT-DESC;FMTTYPE=text/html:<!DOCTYPE html><html><head><title></title></head><body aria-disabled="false"><p><span style='color: rgb(8\, 8\, 9)\; font-family: "Segoe UI Historic"\, "Segoe UI"\, Helvetica\, Arial\, sans-serif\; font-size: 15px\; font-style: normal\; font-variant-ligatures: normal\; font-variant-caps: normal\; font-weight: 400\; letter-spacing: normal\; orphans: 2\; text-align: start\; text-indent: 0px\; text-transform: none\; widows: 2\; word-spacing: 0px\; -webkit-text-stroke-width: 0px\; white-space: normal\; background-color: rgb(255\, 255\, 255)\; text-decoration-thickness: initial\; text-decoration-style: initial\; text-decoration-color: initial\; display: inline !important\; float: none\;'>The Village of Fox Lake Parks &amp\; Recreation Department invites you to bring your family &amp\; friends to join us for a morning of outdoor recreation. This FREE event for all ages includes 45-minute Yoga\, Jazzercise\, and Strength Training Classes. Zenia&#39\;s Coffee Bar will also be on-site for tea &amp\; coffee beverage purchases.</span></p></body></html>
LOCATION:10 Riverview Fox Lake IL 60020
UID:e.3289.1445423
SEQUENCE:3
DTSTAMP:20260421T195221Z
URL:https://illinoisparkandrecreationassociation.growthzoneapp.com/affiliate-calendar/Details/active-at-the-lakefront-unplug-illinois-1712018?sourceTypeId=Hub
END:VEVENT
END:VCALENDAR
