BEGIN:VCALENDAR
VERSION:2.0
PRODID:-//ChamberMaster//Event Calendar 2.0//EN
METHOD:PUBLISH
X-PUBLISHED-TTL:P1H
REFRESH-INTERVAL:P1H
CALSCALE:GREGORIAN
BEGIN:VTIMEZONE
TZID:America/Chicago
BEGIN:DAYLIGHT
RRULE:FREQ=YEARLY;BYMONTH=3;BYDAY=2SU
DTSTART:20070101T000000
TZOFFSETFROM:-0600
TZOFFSETTO:-0500
TZNAME:Central Daylight Time
END:DAYLIGHT
BEGIN:STANDARD
RRULE:FREQ=YEARLY;BYMONTH=11;BYDAY=1SU
DTSTART:20070101T000000
TZOFFSETFROM:-0500
TZOFFSETTO:-0600
TZNAME:Central Standard Time
END:STANDARD
END:VTIMEZONE
BEGIN:VEVENT
DTSTART;TZID=America/Chicago:20260413T100000
DTEND;TZID=America/Chicago:20260413T110000
X-MICROSOFT-CDO-ALLDAYEVENT:FALSE
SUMMARY:TR Support Staff & Supervision Committee Meeting
DESCRIPTION:Located within IPRA's Therapeutic Recreation (TR) Section\, the Support Services & Staffing Committee consists of a group of special recreation professionals that oversee staffing.  If you are interested in joining the committee or simply wish to attend for educational and networking purposes\, you are encouraged to register. How to Participate: This meeting will be available for IPRA Members in the CommUnity.  Registered members will receive access links the day prior to the meeting.Members can click here to log into their accounts and opt-in to the Support Staff & Supervision list and CommUnity group through Lists/Committees.  Not an IPRA member? Click here and join today! CEUs: Event is not approved for CEUs (Continuing Education Units are for certifications such as CTRS\, CPRE and CPRP certification).
X-ALT-DESC;FMTTYPE=text/html:<!DOCTYPE html><html><head><title></title></head><body aria-disabled="false"><p>Located within IPRA&#39\;s Therapeutic Recreation (TR) Section\, the Support Services &amp\; Staffing Committee consists of a group of special recreation professionals that oversee staffing. &nbsp\;If you are interested in joining the committee or simply wish to attend for educational and networking purposes\, you are encouraged to register.&nbsp\;</p><p><meta charset="utf-8"></p><p><strong fr-original-style="" style="font-weight: 700\;">How to Participate: </strong>This meeting will be available for IPRA Members in the CommUnity. &nbsp\;Registered members will receive access links the day prior to the meeting.</p><p><span style="color: rgb(184\, 49\, 47)\;">Members can&nbsp\;</span><a fr-original-style="" href="https://illinoisparkandrecreationassociation.growthzoneapp.com/MIC/17417309/16019773/#/MyInfo/AccountContactInfo" rel="noopener noreferrer" style="user-select: auto\;" target="_blank"><span style="color: rgb(184\, 49\, 47)\;">click here</span></a><span style="color: rgb(184\, 49\, 47)\;">&nbsp\;to log into their accounts and opt-in to the Support Staff &amp\; Supervision list and CommUnity group through Lists/Committees. &nbsp\;Not an IPRA member? Click&nbsp\;</span><a fr-original-style="" href="https://www.ilipra.org/professional-membership/" rel="noopener noreferrer" style="user-select: auto\;" target="_blank"><span style="color: rgb(184\, 49\, 47)\;">here</span></a><span style="color: rgb(184\, 49\, 47)\;">&nbsp\;and join today!&nbsp\;</span></p><p><strong fr-original-style="" style="font-weight: 700\;">CEUs</strong>: Event is not approved for CEUs (Continuing Education Units are for certifications such as CTRS\, CPRE and CPRP certification).</p></body></html>
LOCATION:
UID:e.3289.1426891
SEQUENCE:3
DTSTAMP:20260421T200539Z
URL:https://illinoisparkandrecreationassociation.growthzoneapp.com/affiliate-calendar/Details/tr-support-staff-supervision-committee-meeting-1687547?sourceTypeId=Hub
END:VEVENT
END:VCALENDAR
