BEGIN:VCALENDAR
VERSION:2.0
PRODID:-//ChamberMaster//Event Calendar 2.0//EN
METHOD:PUBLISH
X-PUBLISHED-TTL:P1H
REFRESH-INTERVAL:P1H
CALSCALE:GREGORIAN
BEGIN:VTIMEZONE
TZID:America/Chicago
BEGIN:DAYLIGHT
RRULE:FREQ=YEARLY;BYMONTH=3;BYDAY=2SU
DTSTART:20070101T000000
TZOFFSETFROM:-0600
TZOFFSETTO:-0500
TZNAME:Central Daylight Time
END:DAYLIGHT
BEGIN:STANDARD
RRULE:FREQ=YEARLY;BYMONTH=11;BYDAY=1SU
DTSTART:20070101T000000
TZOFFSETFROM:-0500
TZOFFSETTO:-0600
TZNAME:Central Standard Time
END:STANDARD
END:VTIMEZONE
BEGIN:VEVENT
DTSTART;TZID=America/Chicago:20260414T140000
DTEND;TZID=America/Chicago:20260414T160000
X-MICROSOFT-CDO-ALLDAYEVENT:FALSE
SUMMARY:Senior Committee Meeting
DESCRIPTION:Located within IPRA's Recreation (REC) Section\, the Senior Committee consists of a group of park district professionals that serve older adults.  At this meeting\, we will have a collaborative discussion on program branding and expansion in active adult programming and additional recreation departments. Topics include developing recognizable program identities\, growing participation\, expanding offerings\, and identifying new opportunities to serve the community.  If you are interested in joining the committee or simply wish to attend for educational and networking purposes\, you are encouraged to registerMembers can click here to log into their accounts and opt-in to the Senior Committee list and CommUnity group through Lists/Committees.  Not an IPRA member? Click here and join today! CEUs: Event is not approved for CEUs (Continuing Education Units are for certifications such as CTRS\, CPRE and CPRP certification).
X-ALT-DESC;FMTTYPE=text/html:<!DOCTYPE html><html><head><title></title></head><body aria-disabled="false"><p>Located within IPRA&#39\;s Recreation (REC) Section\, the Senior Committee consists of a group of park district professionals that serve older adults. &nbsp\;At this meeting\, we will have a collaborative discussion on program branding and expansion in active adult programming and additional recreation departments. Topics include developing recognizable program identities\, growing participation\, expanding offerings\, and identifying new opportunities to serve the community. &nbsp\;<meta charset="utf-8">If you are interested in joining the committee or simply wish to attend for educational and networking purposes\, you are encouraged to register</p><p><span style="color: rgb(184\, 49\, 47)\;">Members can&nbsp\;</span><a fr-original-style="" href="https://illinoisparkandrecreationassociation.growthzoneapp.com/MIC/17417309/16019773/#/MyInfo/AccountContactInfo" rel="noopener noreferrer" style="user-select: auto\;" target="_blank"><span style="color: rgb(184\, 49\, 47)\;">click here</span></a><span style="color: rgb(184\, 49\, 47)\;">&nbsp\;to log into their accounts and opt-in to the Senior Committee list and CommUnity group through Lists/Committees. &nbsp\;Not an IPRA member? Click&nbsp\;</span><a fr-original-style="" href="https://www.ilipra.org/professional-membership/" rel="noopener noreferrer" style="user-select: auto\;" target="_blank"><span style="color: rgb(184\, 49\, 47)\;">here</span></a><span style="color: rgb(184\, 49\, 47)\;">&nbsp\;and join today!&nbsp\;</span></p><p><strong fr-original-style="" style="font-weight: 700\;">CEUs:</strong> Event is not approved for CEUs (Continuing Education Units are for certifications such as CTRS\, CPRE and CPRP certification).</p></body></html>
LOCATION:St. Charles Park District 8 North Ave St. Charles IL 60174
UID:e.3289.1422162
SEQUENCE:3
DTSTAMP:20260421T200539Z
URL:https://illinoisparkandrecreationassociation.growthzoneapp.com/affiliate-calendar/Details/senior-committee-meeting-1681549?sourceTypeId=Hub
END:VEVENT
END:VCALENDAR
