BEGIN:VCALENDAR
VERSION:2.0
PRODID:-//ChamberMaster//Event Calendar 2.0//EN
METHOD:PUBLISH
X-PUBLISHED-TTL:P1H
REFRESH-INTERVAL:P1H
CALSCALE:GREGORIAN
BEGIN:VTIMEZONE
TZID:America/Chicago
BEGIN:DAYLIGHT
RRULE:FREQ=YEARLY;BYMONTH=3;BYDAY=2SU
DTSTART:20070101T000000
TZOFFSETFROM:-0600
TZOFFSETTO:-0500
TZNAME:Central Daylight Time
END:DAYLIGHT
BEGIN:STANDARD
RRULE:FREQ=YEARLY;BYMONTH=11;BYDAY=1SU
DTSTART:20070101T000000
TZOFFSETFROM:-0500
TZOFFSETTO:-0600
TZNAME:Central Standard Time
END:STANDARD
END:VTIMEZONE
BEGIN:VEVENT
DTSTART;VALUE=DATE:20260822
DTEND;VALUE=DATE:20260823
TRANSP:TRANSPARENT
X-MICROSOFT-CDO-ALLDAYEVENT:TRUE
SUMMARY:Park District Conservation Day
DESCRIPTION:IAPD and IPRA are inviting park districts\, forest preserves\, conservation districts\, recreation\, and special recreation agencies to send dance teams\, tumblers\, theater groups\, bands\, chorales\, orchestras and zoos to perform or exhibit on Park District Conservation Day at the Illinois State Fair on Saturday\, August 22. No group is too large or too small! Help us reach more than 100\,000 people with positive messages about Illinois park\, recreation and conservation agencies by showcasing your agency's programs and giving your participants statewide recognition! Performers receive complimentary parking and admission to the Illinois State Fair on Park District Conservation Day.Click here to register your agency's groups today. (Registration is free!) Check out our discounted hotel rates by clicking here. Questions? Email bjhill@ILparks.org or call (217) 970-7318.Additional information can be found here.
X-ALT-DESC;FMTTYPE=text/html:<!DOCTYPE html><html><head><title></title></head><body aria-disabled="false"><p>IAPD and IPRA are inviting park districts\, forest preserves\, conservation districts\, recreation\, and special recreation agencies to send dance teams\, tumblers\, theater groups\, bands\, chorales\, orchestras and zoos to perform or exhibit on Park District Conservation Day at the Illinois State Fair on Saturday\, August 22. No group is too large or too small!&nbsp\;</p><p>Help us reach more than 100\,000 people with positive messages about Illinois park\, recreation and conservation agencies by showcasing your agency&#39\;s programs and giving your participants statewide recognition! Performers receive complimentary parking and admission to the Illinois State Fair on Park District Conservation Day.</p><p style="margin-bottom:0in\;line-height:normal\;"><a fr-original-style="" href="https://cdn.ymaws.com/www.ilparks.org/resource/resmgr/pdcd/2026_performer_sign_up.pdf" style="user-select: auto\;">Click here</a> to register your agency&#39\;s groups today. (Registration is free!) Check out our discounted hotel rates by <a fr-original-style="" href="https://www.ihg.com/crowneplaza/hotels/us/en/find-hotels/select-roomrate?fromRedirect=true&qSrt=sBR&qIta=99801505&icdv=99801505&qSlH=SPICC&qCiD=21&qCiMy=072026&qCoD=22&qCoMy=072026&qGrpCd=S9B&qAAR=6CBARC&qRtP=6CBARC&setPMCookies=true&qSHBrC=CP&qDest=3000%20South%20Dirksen%20Parkway\,%20Springfield\,%20IL\,%20US&showApp=true&adjustMonth=false&srb_u=1&qRmFltr=" style="user-select: auto\;">clicking here</a>. Questions? Email bjhill@ILparks.org or call (217) 970-7318.</p><p style="margin-bottom:0in\;line-height:normal\;">Additional information can be found <a fr-original-style="" href="https://www.ilparks.org/page/ConservationDay" rel="noopener noreferrer" style="user-select: auto\;" target="_blank">here</a>.&nbsp\;</p></body></html>
LOCATION:801 Sangamon Springfield IL 62706
UID:e.3289.1413731
SEQUENCE:3
DTSTAMP:20260421T195154Z
URL:https://illinoisparkandrecreationassociation.growthzoneapp.com/affiliate-calendar/Details/park-district-conservation-day-1670642?sourceTypeId=Hub
END:VEVENT
END:VCALENDAR
