BEGIN:VCALENDAR
VERSION:2.0
PRODID:-//ChamberMaster//Event Calendar 2.0//EN
METHOD:PUBLISH
X-PUBLISHED-TTL:P1H
REFRESH-INTERVAL:P1H
CALSCALE:GREGORIAN
BEGIN:VTIMEZONE
TZID:America/Chicago
BEGIN:DAYLIGHT
RRULE:FREQ=YEARLY;BYMONTH=3;BYDAY=2SU
DTSTART:20070101T000000
TZOFFSETFROM:-0600
TZOFFSETTO:-0500
TZNAME:Central Daylight Time
END:DAYLIGHT
BEGIN:STANDARD
RRULE:FREQ=YEARLY;BYMONTH=11;BYDAY=1SU
DTSTART:20070101T000000
TZOFFSETFROM:-0500
TZOFFSETTO:-0600
TZNAME:Central Standard Time
END:STANDARD
END:VTIMEZONE
BEGIN:VEVENT
DTSTART;TZID=America/Chicago:20260421T130000
DTEND;TZID=America/Chicago:20260421T140000
X-MICROSOFT-CDO-ALLDAYEVENT:FALSE
SUMMARY:NEW! Graphic Design Task Force Roundtable: Get to Know Your Fellow Park District Graphic Designers
DESCRIPTION:Calling all Parks and Rec graphic designers! Ever wish you had a dedicated group of peers who understand the specific joys and challenges of Parks and Rec graphic design? Hosted by IPRA's Communications & Marketing (C&M) Section\, the Graphic Design Task Force is building a supportive community where designers can network\, share ideas\, and offer honest feedback on projects. This group is also open to marketing professionals who have a special interest in the design side of our field. Whether you're looking for creative inspiration or just want to connect with peers who truly 'get' Parks and Rec graphic design\, you're welcome here! Join us online to get to know each other\, share ideas and help shape the direction of future of the Graphic Design Task Force!  If you are interested in joining the C&M Section or simply wish to attend for educational and networking purposes\, you are encouraged to register.How to Participate: This meeting will be available for IPRA Members in the CommUnity.  Registered members will receive access links the day prior to the meeting.Members can click here to log into their accounts and opt-in to the Graphic Design Task Force list and CommUnity page through Lists/Committees.  Not an IPRA member? Click here and join today! \nCEUs: Event is not approved for CEUs (Continuing Education Units are for certifications such as CTRS\, CPRE and CPRP certification).
X-ALT-DESC;FMTTYPE=text/html:<!DOCTYPE html><html><head><title></title></head><body aria-disabled="false"><p><meta charset="utf-8"><meta charset="UTF-8"><meta charset="UTF-8">Calling all Parks and Rec graphic designers! Ever wish you had a dedicated group of peers who understand the specific joys and challenges of Parks and Rec graphic design? Hosted by IPRA&rsquo\;s Communications &amp\; Marketing (C&amp\;M) Section\, the Graphic Design Task Force is building a supportive community where designers can network\, share ideas\, and offer honest feedback on projects. This group is also open to marketing professionals who have a special interest in the design side of our field. Whether you&rsquo\;re looking for creative inspiration or just want to connect with peers who truly &#39\;get&#39\; Parks and Rec graphic design\, you&rsquo\;re welcome here! Join us online to get to know each other\, share ideas and help shape the direction of future of the Graphic Design Task Force! &nbsp\;If you are interested in joining the C&amp\;M Section or simply wish to attend for educational and networking purposes\, you are encouraged to register.</p><p><meta charset="utf-8"><strong fr-original-style="" style="font-weight: 700\;">How to Participate:&nbsp\;</strong>This meeting will be available for IPRA Members in the CommUnity. &nbsp\;Registered members will receive access links the day prior to the meeting.</p><p><meta charset="UTF-8"><meta charset="UTF-8"></p><p><meta charset="UTF-8"><meta charset="UTF-8"></p><div><meta charset="UTF-8"><meta charset="UTF-8"></div><p><meta charset="UTF-8"></p><div><span style="color: rgb(184\, 49\, 47)\;">Members can <a fr-original-style="" href="https://illinoisparkandrecreationassociation.growthzoneapp.com/MIC/17417309/16019773/#/MyInfo/AccountContactInfo" style="user-select: auto\; color: inherit\;">click here</a> to log into their accounts and opt-in to the Graphic Design Task Force list and CommUnity page through Lists/Committees. &nbsp\;Not an IPRA member? Click <a fr-original-style="" href="https://www.ilipra.org/professional-membership/" style="user-select: auto\; color: inherit\;">here</a> and join today!&nbsp\;</span></div><div><br></div><div><strong fr-original-style="" style="font-weight: 700\;">CEUs:</strong> Event is not approved for CEUs (Continuing Education Units are for certifications such as CTRS\, CPRE and CPRP certification).</div></body></html>
LOCATION:
UID:e.3289.1427001
SEQUENCE:3
DTSTAMP:20260421T200536Z
URL:https://illinoisparkandrecreationassociation.growthzoneapp.com/affiliate-calendar/Details/new-graphic-design-task-force-roundtable-get-to-know-your-fellow-park-district-graphic-designers-1687731?sourceTypeId=Hub
END:VEVENT
END:VCALENDAR
