BEGIN:VCALENDAR
VERSION:2.0
PRODID:-//ChamberMaster//Event Calendar 2.0//EN
METHOD:PUBLISH
X-PUBLISHED-TTL:P1H
REFRESH-INTERVAL:P1H
CALSCALE:GREGORIAN
BEGIN:VTIMEZONE
TZID:America/Chicago
BEGIN:DAYLIGHT
RRULE:FREQ=YEARLY;BYMONTH=3;BYDAY=2SU
DTSTART:20070101T000000
TZOFFSETFROM:-0600
TZOFFSETTO:-0500
TZNAME:Central Daylight Time
END:DAYLIGHT
BEGIN:STANDARD
RRULE:FREQ=YEARLY;BYMONTH=11;BYDAY=1SU
DTSTART:20070101T000000
TZOFFSETFROM:-0500
TZOFFSETTO:-0600
TZNAME:Central Standard Time
END:STANDARD
END:VTIMEZONE
BEGIN:VEVENT
DTSTART;TZID=America/Chicago:20260428T110000
DTEND;TZID=America/Chicago:20260428T120000
X-MICROSOFT-CDO-ALLDAYEVENT:FALSE
SUMMARY:Lunch & Learn: Canada Geese in IL: Common Problems\, Questions\, and Solutions
DESCRIPTION:Between turf destruction\, territorial attitudes\, and unwelcome "gifts" left on our grass and sidewalk\, the presence of protected Canadian geese disrupts park usage. Join Geese Chasers to hear tips and tricks for living side-by-side with our nosey neighbors while keeping parks clean and safe. Discover insights into their migration\, recognize mating season and paternal aggression\, navigate problems surrounding sick or dead geese\, and more. Promote co-habitation with practical solutions and take flight with sharing newfound knowledge with constituents.  Registration closes at 12:00 p.m. CST on Monday\, April 27.Who Should Attend: This session is ideal for those who are in park and facility maintenance\, coaches\, landscaping\, or outdoor program and event management.How to Participate: The event will take place live via Zoom Webinar. Participants will receive a Zoom join link after the registration deadline passes. CEUs: Event is not approved for CEUs.Watching the Recording: Lunch and Learn recordings are only available to LMS Subscribers on the IPRA University starting in March of 2026.
X-ALT-DESC;FMTTYPE=text/html:<!DOCTYPE html><html><head><title></title></head><body aria-disabled="false"><p><span style="font-size: 18px\;">Between turf destruction\, territorial attitudes\, and unwelcome &quot\;gifts&quot\; left on our grass and sidewalk\, the presence of protected Canadian geese disrupts park usage. <span style="color: rgb(0\, 0\, 0)\; font-family: Arial\; font-style: normal\; font-variant-ligatures: normal\; font-variant-caps: normal\; font-weight: 400\; letter-spacing: normal\; orphans: 2\; text-align: start\; text-indent: 0px\; text-transform: none\; widows: 2\; word-spacing: 0px\; -webkit-text-stroke-width: 0px\; white-space: normal\; text-decoration-thickness: initial\; text-decoration-style: initial\; text-decoration-color: initial\; float: none\; display: inline !important\;">Join Geese Chasers to hear tips and tricks for living side-by-side with</span> our nosey neighbors while keeping parks clean and safe. Discover insights into their migration\, recognize mating season and paternal aggression\, navigate problems surrounding sick or dead geese\, and more. Promote co-habitation with practical solutions and take flight with sharing newfound knowledge with constituents. &nbsp\;</span></p><p><span style="font-size: 18px\;"><span style="font-family: Arial\,Helvetica\,sans-serif\;"><strong fr-original-style="" style="font-weight: 700\;"><span style="color: rgb(184\, 49\, 47)\;">Registration closes at 12:00 p.m. CST on Monday\, April 27.</span></strong></span></span></p><p><span style="font-size: 18px\;"><span style="font-family: Arial\,Helvetica\,sans-serif\;"><strong fr-original-style="" style="font-weight: 700\;">Who Should Attend:&nbsp\;</strong>This session is ideal for those who are in park and facility maintenance\, coaches\, landscaping\, or outdoor program and event management.</span></span></p><p><span style="font-size: 18px\;"><span style="font-family: Arial\,Helvetica\,sans-serif\;"><strong fr-original-style="" style="font-weight: 700\;">How to Participate:&nbsp\;</strong>The event will take place live via Zoom Webinar. Participants will receive a Zoom join link after the registration deadline passes.&nbsp\;</span></span></p><p><span style="font-size: 18px\;"><span style="font-family: Arial\,Helvetica\,sans-serif\;"><strong fr-original-style="" style="font-weight: 700\;">CEUs</strong>: Event is not approved for CEUs.</span></span></p><p><span style="font-size: 18px\; font-family: Arial\, Helvetica\, sans-serif\;"><strong fr-original-style="" style="font-weight: 700\;">Watching the Recording:&nbsp\;</strong>Lunch and Learn recordings are only available to LMS Subscribers on the <a fr-original-style="" href="https://www.pathlms.com/ipra-university" rel="noopener noreferrer" style="user-select: auto\;" target="_blank"><strong fr-original-style="" style="font-weight: 700\;">IPRA University</strong></a> starting in March of 2026.</span></p></body></html>
LOCATION:
UID:e.3289.1297012
SEQUENCE:3
DTSTAMP:20260421T195331Z
URL:https://illinoisparkandrecreationassociation.growthzoneapp.com/affiliate-calendar/Details/lunch-learn-canada-geese-in-il-common-problems-questions-and-solutions-1518027?sourceTypeId=Hub
END:VEVENT
END:VCALENDAR
