BEGIN:VCALENDAR
VERSION:2.0
PRODID:-//ChamberMaster//Event Calendar 2.0//EN
METHOD:PUBLISH
X-PUBLISHED-TTL:P1H
REFRESH-INTERVAL:P1H
CALSCALE:GREGORIAN
BEGIN:VTIMEZONE
TZID:America/Chicago
BEGIN:DAYLIGHT
RRULE:FREQ=YEARLY;BYMONTH=3;BYDAY=2SU
DTSTART:20070101T000000
TZOFFSETFROM:-0600
TZOFFSETTO:-0500
TZNAME:Central Daylight Time
END:DAYLIGHT
BEGIN:STANDARD
RRULE:FREQ=YEARLY;BYMONTH=11;BYDAY=1SU
DTSTART:20070101T000000
TZOFFSETFROM:-0500
TZOFFSETTO:-0600
TZNAME:Central Standard Time
END:STANDARD
END:VTIMEZONE
BEGIN:VEVENT
DTSTART;TZID=America/Chicago:20260414T110000
DTEND;TZID=America/Chicago:20260414T120000
X-MICROSOFT-CDO-ALLDAYEVENT:FALSE
SUMMARY:Lunch & Learn: Access for All - ADA and WCAG Compliance
DESCRIPTION:Equitable digital experiences\, such as ensuring website compliance with accessibility in mind\, is critical to providing information\, communication\, and resources to all. Join My Rec as they breakdown Web Content Accessibility Guidelines (WCAG) 2.2 requirements for color contrast ratios\, appropriate captioning for screen readers\, and more. Stay informed about the most up-to-date requirements for your agency's website. Learn how the most relevant web accessibility practices can be used to enhance your recreation software platform. Bring your questions and discover practical tips to implement to ensure a user-friendly public site.Registration closes at 12:00 p.m. CST on Monday\, April 13.Who Should Attend: This session is ideal for those who create virtual content\, social media marketing\, or website design and compliance. Marketing and communication roles\, as well as technology roles\, would benefit from this session.How to Participate: The event will take place live via Zoom Webinar. Participants will receive a Zoom join link after the registration deadline passes. CEUs: Event is not approved for CEUs.Watching the Recording: Lunch and Learn recordings are only available to LMS Subscribers on the IPRA University starting in March of 2026.
X-ALT-DESC;FMTTYPE=text/html:<!DOCTYPE html><html><head><title></title></head><body aria-disabled="false"><p><span style="font-size: 18px\; font-family: Arial\, Helvetica\, sans-serif\;">Equitable digital experiences\, such as ensuring website compliance with accessibility in mind\, is critical to providing information\, communication\, and resources to all. Join My Rec as they breakdown Web Content Accessibility Guidelines (WCAG) 2.2 requirements for color contrast ratios\, appropriate captioning for screen readers\, and more. Stay informed about the most up-to-date requirements for your agency&#39\;s website. Learn how the most relevant web accessibility practices can be used to enhance your recreation software platform. Bring your questions and discover practical tips to implement to ensure a user-friendly public site.</span></p><p><span style="font-family: Arial\,Helvetica\,sans-serif\;"><span style="font-size: 18px\;"><strong fr-original-style="" style="font-weight: 700\;"><span style="color: rgb(184\, 49\, 47)\;">Registration closes at 12:00 p.m. CST on Monday\, April 13.</span></strong></span></span></p><p><span style="font-family: Arial\,Helvetica\,sans-serif\;"><span style="font-size: 18px\;"><strong fr-original-style="" style="font-weight: 700\;">Who Should Attend:&nbsp\;</strong>This session is ideal for those who create virtual content\, social media marketing\, or website design and compliance. Marketing and communication roles\, as well as technology roles\, would benefit from this session.</span></span></p><p><span style="font-family: Arial\,Helvetica\,sans-serif\;"><span style="font-size: 18px\;"><strong fr-original-style="" style="font-weight: 700\;">How to Participate:&nbsp\;</strong>The event will take place live via Zoom Webinar. Participants will receive a Zoom join link after the registration deadline passes.&nbsp\;</span></span></p><p><span style="font-family: Arial\,Helvetica\,sans-serif\;"><span style="font-size: 18px\;"><strong fr-original-style="" style="font-weight: 700\;">CEUs</strong>: Event is not approved for CEUs.</span></span></p><p><span style="font-size: 18px\; font-family: Arial\, Helvetica\, sans-serif\;"><strong fr-original-style="" style="font-weight: 700\;">Watching the Recording:&nbsp\;</strong>Lunch and Learn recordings are only available to LMS Subscribers on the <a fr-original-style="" href="https://www.pathlms.com/ipra-university" rel="noopener noreferrer" style="user-select: auto\;" target="_blank"><strong fr-original-style="" style="font-weight: 700\;">IPRA University</strong></a> starting in March of 2026.</span></p></body></html>
LOCATION:
UID:e.3289.1297010
SEQUENCE:3
DTSTAMP:20260421T200539Z
URL:https://illinoisparkandrecreationassociation.growthzoneapp.com/affiliate-calendar/Details/lunch-learn-access-for-all-ada-and-wcag-compliance-1518025?sourceTypeId=Hub
END:VEVENT
END:VCALENDAR
