BEGIN:VCALENDAR
VERSION:2.0
PRODID:-//ChamberMaster//Event Calendar 2.0//EN
METHOD:PUBLISH
X-PUBLISHED-TTL:P1H
REFRESH-INTERVAL:P1H
CALSCALE:GREGORIAN
BEGIN:VTIMEZONE
TZID:America/Chicago
BEGIN:DAYLIGHT
RRULE:FREQ=YEARLY;BYMONTH=3;BYDAY=2SU
DTSTART:20070101T000000
TZOFFSETFROM:-0600
TZOFFSETTO:-0500
TZNAME:Central Daylight Time
END:DAYLIGHT
BEGIN:STANDARD
RRULE:FREQ=YEARLY;BYMONTH=11;BYDAY=1SU
DTSTART:20070101T000000
TZOFFSETFROM:-0500
TZOFFSETTO:-0600
TZNAME:Central Standard Time
END:STANDARD
END:VTIMEZONE
BEGIN:VEVENT
DTSTART;TZID=America/Chicago:20260512T100000
DTEND;TZID=America/Chicago:20260512T120000
X-MICROSOFT-CDO-ALLDAYEVENT:FALSE
SUMMARY:Joint Committee Roundtable: Inclusion (TR) and School Age/Day Camp (REC)
DESCRIPTION:Join us for a joint roundtable discussion with the Inclusion Committee (TR) and the School Age/Day Camp Committee (REC) as we discuss strategies\, share best practices\, and explore new ideas to create welcoming\, engaging\, and accessible camp experiences for all participants. This session will focus on the collaboration between SRA's and their member park districts while we discuss practical staff approaches to ensure every camper has the opportunity to participate\, connect\, and thrive throughout the summer season. Come ready to exchange insights and help shape more inclusive camps across our park district communities. Members can click here to log into their accounts and opt-in to the Inclusion Committee list and CommUnity Group through Lists/Committees.  Not an IPRA member? Click here and join today! CEUs: Event is not approved for CEUs (Continuing Education Units are for certifications such as CTRS\, CPRE and CPRP certification).
X-ALT-DESC;FMTTYPE=text/html:<!DOCTYPE html><html><head><title></title></head><body aria-disabled="false"><p>Join us for a joint roundtable discussion with the Inclusion Committee (TR) and the School Age/Day Camp Committee (REC) as we discuss strategies\, share best practices\, and explore new ideas to create welcoming\, engaging\, and accessible camp experiences for all participants. This session will focus on the collaboration between SRA&#39\;s and their member park districts while we discuss practical staff approaches to ensure every camper has the opportunity to participate\, connect\, and thrive throughout the summer season. Come ready to exchange insights and help shape more inclusive camps across our park district communities.&nbsp\;</p><p><span style="color: rgb(184\, 49\, 47)\;">Members can&nbsp\;</span><a fr-original-style="" href="https://illinoisparkandrecreationassociation.growthzoneapp.com/MIC/17417309/16019773/#/MyInfo/AccountContactInfo" rel="noopener noreferrer" style="user-select: auto\;" target="_blank"><span style="color: rgb(184\, 49\, 47)\;">click here</span></a><span style="color: rgb(184\, 49\, 47)\;">&nbsp\;to log into their accounts and opt-in to the Inclusion Committee list and CommUnity Group through Lists/Committees. &nbsp\;Not an IPRA member? Click&nbsp\;</span><a fr-original-style="" href="https://www.ilipra.org/professional-membership/" rel="noopener noreferrer" style="user-select: auto\;" target="_blank"><span style="color: rgb(184\, 49\, 47)\;">here</span></a><span style="color: rgb(184\, 49\, 47)\;">&nbsp\;and join today!&nbsp\;</span></p><p><strong fr-original-style="" style="font-weight: 700\;">CEUs</strong>: Event is not approved for CEUs (Continuing Education Units are for certifications such as CTRS\, CPRE and CPRP certification).</p></body></html>
LOCATION:NEDSRA 1770 W Centennial Place Addison IL 60101
UID:e.3289.1427105
SEQUENCE:3
DTSTAMP:20260421T200536Z
URL:https://illinoisparkandrecreationassociation.growthzoneapp.com/affiliate-calendar/Details/joint-committee-roundtable-inclusion-tr-and-school-age-day-camp-rec-1687833?sourceTypeId=Hub
END:VEVENT
END:VCALENDAR
