BEGIN:VCALENDAR
VERSION:2.0
PRODID:-//ChamberMaster//Event Calendar 2.0//EN
METHOD:PUBLISH
X-PUBLISHED-TTL:P1H
REFRESH-INTERVAL:P1H
CALSCALE:GREGORIAN
BEGIN:VTIMEZONE
TZID:America/Chicago
BEGIN:DAYLIGHT
RRULE:FREQ=YEARLY;BYMONTH=3;BYDAY=2SU
DTSTART:20070101T000000
TZOFFSETFROM:-0600
TZOFFSETTO:-0500
TZNAME:Central Daylight Time
END:DAYLIGHT
BEGIN:STANDARD
RRULE:FREQ=YEARLY;BYMONTH=11;BYDAY=1SU
DTSTART:20070101T000000
TZOFFSETFROM:-0500
TZOFFSETTO:-0600
TZNAME:Central Standard Time
END:STANDARD
END:VTIMEZONE
BEGIN:VEVENT
DTSTART;TZID=America/Chicago:20260402T100000
DTEND;TZID=America/Chicago:20260402T113000
X-MICROSOFT-CDO-ALLDAYEVENT:FALSE
SUMMARY:Inter-Agency Sports Committee Meeting: Softball Scheduling & Soccer Seeding
DESCRIPTION:Located within IPRA's Recreation (TR) Section\, the Inter-Agency Sports Committee consists of a group of professionals that specialize or work in and around Therapeutic Recreation Athletic programs.  This meeting we will discuss basketball seeding.Members can click here to log into their accounts and opt-in to the Inter-Agency Sports Committee list through Lists/Committees.  Not an IPRA member? Click here and join today! CEUs: Event is not approved for CEUs (Continuing Education Units are for certifications such as CTRS\, CPRE and CPRP certification).
X-ALT-DESC;FMTTYPE=text/html:<!DOCTYPE html><html><head><title></title></head><body aria-disabled="false"><p>Located within IPRA&#39\;s Recreation (TR) Section\, the Inter-Agency Sports Committee consists of a group of professionals that specialize or work in and around Therapeutic Recreation Athletic programs. &nbsp\;This meeting we will discuss basketball seeding.</p><p><meta charset="utf-8"><meta charset="utf-8"></p><p><span style="color: rgb(184\, 49\, 47)\;">Members can&nbsp\;</span><a fr-original-style="" href="https://illinoisparkandrecreationassociation.growthzoneapp.com/MIC/17417309/16019773/#/MyInfo/AccountContactInfo" rel="noopener noreferrer" style="user-select: auto\;" target="_blank"><span style="color: rgb(184\, 49\, 47)\;">click here</span></a><span style="color: rgb(184\, 49\, 47)\;">&nbsp\;to log into their accounts and opt-in to the Inter-Agency Sports Committee list through Lists/Committees. &nbsp\;Not an IPRA member? Click&nbsp\;</span><a fr-original-style="" href="https://www.ilipra.org/professional-membership/" rel="noopener noreferrer" style="user-select: auto\;" target="_blank"><span style="color: rgb(184\, 49\, 47)\;">here</span></a><span style="color: rgb(184\, 49\, 47)\;">&nbsp\;and join today!&nbsp\;</span></p><p><strong fr-original-style="" style="font-weight: 700\;">CEUs</strong>: Event is not approved for CEUs (Continuing Education Units are for certifications such as CTRS\, CPRE and CPRP certification).</p></body></html>
LOCATION:NEDSRA 1770 W Centennial Pl Addison IL 60101
UID:e.3289.1425538
SEQUENCE:3
DTSTAMP:20260421T200535Z
URL:https://illinoisparkandrecreationassociation.growthzoneapp.com/affiliate-calendar/Details/inter-agency-sports-committee-meeting-softball-scheduling-soccer-seeding-1685645?sourceTypeId=Hub
END:VEVENT
END:VCALENDAR
