BEGIN:VCALENDAR
VERSION:2.0
PRODID:-//ChamberMaster//Event Calendar 2.0//EN
METHOD:PUBLISH
X-PUBLISHED-TTL:P1H
REFRESH-INTERVAL:P1H
CALSCALE:GREGORIAN
BEGIN:VTIMEZONE
TZID:America/Chicago
BEGIN:DAYLIGHT
RRULE:FREQ=YEARLY;BYMONTH=3;BYDAY=2SU
DTSTART:20070101T000000
TZOFFSETFROM:-0600
TZOFFSETTO:-0500
TZNAME:Central Daylight Time
END:DAYLIGHT
BEGIN:STANDARD
RRULE:FREQ=YEARLY;BYMONTH=11;BYDAY=1SU
DTSTART:20070101T000000
TZOFFSETFROM:-0500
TZOFFSETTO:-0600
TZNAME:Central Standard Time
END:STANDARD
END:VTIMEZONE
BEGIN:VEVENT
DTSTART;TZID=America/Chicago:20260423T120000
DTEND;TZID=America/Chicago:20260423T140000
X-MICROSOFT-CDO-ALLDAYEVENT:FALSE
SUMMARY:Department Head Committee Meeting & Roundtable
DESCRIPTION:Located within IPRA's Administration & Finance (A&F) Section\, the Department Head Committee consists of a group of department head level professionals who meet to discuss and pursue opportunities for networking\, professional development\, and leadership training.  Department head professionals is defined as those that report to the Executive Director or Village Administrator.  If you are interested in joining the committee or simply wish to attend for educational and networking purposes\, you are encouraged to register.Join us for an in-person roundtable discussion. At this meeting\, we will have selected topics for each table and provide the opportunity to switch tables to discuss other topics. These lively discussions lead to idea generation\, networking\, and collaboration\, benefiting all attendees. If you have any topic suggestions for the roundtable\, please email Liz Visteen.   Feel free to bring your lunch. Some light refreshments will be provided. Members can click here to log into their accounts and opt-in to the Department Head Committee list and CommUnity page through Lists/Committees.  Not an IPRA member? Click here and join today! CEUs: Event is not approved for CEUs (Continuing Education Units are for certifications such as CTRS\, CPRE and CPRP certification).
X-ALT-DESC;FMTTYPE=text/html:<!DOCTYPE html><html><head><title></title></head><body aria-disabled="false"><p>Located within IPRA&#39\;s Administration &amp\; Finance (A&amp\;F) Section\, the Department Head Committee consists of a group of department head level professionals who meet to discuss and pursue opportunities for networking\, professional development\, and leadership training. &nbsp\;Department head professionals is defined as those that report to the Executive Director or Village Administrator. &nbsp\;If you are interested in joining the committee or simply wish to attend for educational and networking purposes\, you are encouraged to register.</p><div>Join us for an in-person roundtable discussion. At this meeting\, we will have selected topics for each table and provide the opportunity to switch tables to discuss other topics. These lively discussions lead to idea generation\, networking\, and collaboration\, benefiting all attendees. If you have any topic suggestions for the roundtable\, please email Liz Visteen.</div><div>&nbsp\; &nbsp\;</div><div>Feel free to bring your lunch. Some light refreshments will be provided.&nbsp\;</div><p><span style="color: rgb(184\, 49\, 47)\;"><meta charset="utf-8">Members can <a fr-original-style="" href="https://illinoisparkandrecreationassociation.growthzoneapp.com/MIC/17417309/16019773/#/MyInfo/AccountContactInfo" rel="noopener noreferrer" style="user-select: auto\; color: inherit\;" target="_blank">click here</a> to log into their accounts and opt-in to the Department Head Committee list and CommUnity page through Lists/Committees. &nbsp\;Not an IPRA member? Click&nbsp\;</span><a fr-original-style="" href="https://www.ilipra.org/professional-membership/" rel="noopener noreferrer" style="user-select: auto\;" target="_blank"><span style="color: rgb(184\, 49\, 47)\;">here</span></a><span style="color: rgb(184\, 49\, 47)\;">&nbsp\;and join today!&nbsp\;</span></p><p><strong fr-original-style="" style="font-weight: 700\;">CEUs</strong>: Event is not approved for CEUs (Continuing Education Units are for certifications such as CTRS\, CPRE and CPRP certification).</p></body></html>
LOCATION:Oakbrook Terrace Park District's Heritage Center 1S325 Ardmore Avenue Oakbrook Terrace IL 60181
UID:e.3289.1427077
SEQUENCE:3
DTSTAMP:20260421T200538Z
URL:https://illinoisparkandrecreationassociation.growthzoneapp.com/affiliate-calendar/Details/department-head-committee-meeting-roundtable-1687808?sourceTypeId=Hub
END:VEVENT
END:VCALENDAR
