BEGIN:VCALENDAR
VERSION:2.0
PRODID:-//ChamberMaster//Event Calendar 2.0//EN
METHOD:PUBLISH
X-PUBLISHED-TTL:P1H
REFRESH-INTERVAL:P1H
CALSCALE:GREGORIAN
BEGIN:VTIMEZONE
TZID:America/Chicago
BEGIN:DAYLIGHT
RRULE:FREQ=YEARLY;BYMONTH=3;BYDAY=2SU
DTSTART:20070101T000000
TZOFFSETFROM:-0600
TZOFFSETTO:-0500
TZNAME:Central Daylight Time
END:DAYLIGHT
BEGIN:STANDARD
RRULE:FREQ=YEARLY;BYMONTH=11;BYDAY=1SU
DTSTART:20070101T000000
TZOFFSETFROM:-0500
TZOFFSETTO:-0600
TZNAME:Central Standard Time
END:STANDARD
END:VTIMEZONE
BEGIN:VEVENT
DTSTART;TZID=America/Chicago:20260512T140000
DTEND;TZID=America/Chicago:20260512T150000
X-MICROSOFT-CDO-ALLDAYEVENT:FALSE
SUMMARY:Cultural Arts & Special Events Committee (TR)
DESCRIPTION:Located within IPRA's Therapeutic Recreation (TR) Section\, the Cultural Arts & Special Event Committee is a group of professionals who specialize or work in and around Therapeutic Recreation cultural arts and/or special event programs.  If you are interested in joining the committee or simply wish to attend for educational and networking purposes\, you are encouraged to register.At this meeting\, after brief introductions we will discuss future meeting dates & times\, check in on current program offerings\, update the Special Event running document\, and then will have a open discussion.How to Participate: This meeting will be available for IPRA Members in the CommUnity.  Registered members will receive access links the day prior to the meeting.Not an IPRA member? Members can click here to log into their accounts and opt-in to the Cultural Arts & Special Events Committee (TR) list and CommUnity page through Lists/Committees.  Not an IPRA member? Click here and join today! CEUs: Event is not approved for CEUs (Continuing Education Units are for certifications such as CTRS\, CPRE and CPRP certification).
X-ALT-DESC;FMTTYPE=text/html:<!DOCTYPE html><html><head><title></title></head><body aria-disabled="false"><p>Located within IPRA&#39\;s Therapeutic Recreation (TR) Section\, the Cultural Arts &amp\; Special Event Committee is a group of professionals who <meta charset="utf-8">specialize or work in and around Therapeutic Recreation cultural arts and/or special event programs. &nbsp\;If you are interested in joining the committee or simply wish to attend for educational and networking purposes\, you are encouraged to register.</p><p>At this meeting\, after brief introductions we will discuss future meeting dates &amp\; times\, check in on current program offerings\, update the Special Event running document\, and then will have a open discussion.</p><p><meta charset="utf-8"><strong fr-original-style="" style="font-weight: 700\;">How to Participate:</strong> This meeting will be available for IPRA Members in the CommUnity. &nbsp\;Registered members will receive access links the day prior to the meeting.</p><p><span style="color: rgb(184\, 49\, 47)\;">Not an IPRA member? Members can</span> <a fr-original-style="" href="https://illinoisparkandrecreationassociation.growthzoneapp.com/MIC/17417309/16019773/#/MyInfo/AccountContactInfo" style="user-select: auto\;">click here</a> <span style="color: rgb(184\, 49\, 47)\;">to log into their accounts and opt-in to the Cultural Arts &amp\; Special Events Committee (TR) list and CommUnity page through Lists/Committees. &nbsp\;Not an IPRA member? Click</span> <a fr-original-style="" href="https://www.ilipra.org/professional-membership/" style="user-select: auto\;">here</a> <span style="color: rgb(184\, 49\, 47)\;">and join today!&nbsp\;</span></p><p><strong fr-original-style="" style="font-weight: 700\;">CEUs:</strong> Event is not approved for CEUs (Continuing Education Units are for certifications such as CTRS\, CPRE and CPRP certification).</p></body></html>
LOCATION:
UID:e.3289.1427142
SEQUENCE:3
DTSTAMP:20260421T200536Z
URL:https://illinoisparkandrecreationassociation.growthzoneapp.com/affiliate-calendar/Details/cultural-arts-special-events-committee-tr-1687875?sourceTypeId=Hub
END:VEVENT
END:VCALENDAR
