BEGIN:VCALENDAR
VERSION:2.0
PRODID:-//ChamberMaster//Event Calendar 2.0//EN
METHOD:PUBLISH
X-PUBLISHED-TTL:P1H
REFRESH-INTERVAL:P1H
CALSCALE:GREGORIAN
BEGIN:VTIMEZONE
TZID:America/Chicago
BEGIN:DAYLIGHT
RRULE:FREQ=YEARLY;BYMONTH=3;BYDAY=2SU
DTSTART:20070101T000000
TZOFFSETFROM:-0600
TZOFFSETTO:-0500
TZNAME:Central Daylight Time
END:DAYLIGHT
BEGIN:STANDARD
RRULE:FREQ=YEARLY;BYMONTH=11;BYDAY=1SU
DTSTART:20070101T000000
TZOFFSETFROM:-0500
TZOFFSETTO:-0600
TZNAME:Central Standard Time
END:STANDARD
END:VTIMEZONE
BEGIN:VEVENT
DTSTART;TZID=America/Chicago:20260409T140000
DTEND;TZID=America/Chicago:20260409T153000
X-MICROSOFT-CDO-ALLDAYEVENT:FALSE
SUMMARY:Aquatics Committee Roundtable: Summer Kickoff
DESCRIPTION:Located within IPRA's Facility Management (FM) Section\, the Aquatic Committee consists of a group of park district professionals that either specialize or work in and around Aquatic Facilities.  At this meeting we will go over everyone's plans for the summer\, including prep work\, hiring tips\, training agendas\, and more! Please have any materials you wish to discuss with your fellow professionals.  If you are interested in joining the committee or simply wish to attend for educational and networking purposes\, we encourage you to register.How to Participate: This meeting will be available for IPRA Members in the CommUnity.  Registered members will receive access links the day prior to the meeting.Members can click here to log into their accounts and opt-in to the Aquatics Committee list through Lists/Committees.  Not an IPRA member? Click here and join today! CEUs: Event is not approved for CEUs (Continuing Education Units are for certifications such as CTRS\, CPRE and CPRP certification).
X-ALT-DESC;FMTTYPE=text/html:<!DOCTYPE html><html><head><title></title></head><body aria-disabled="false"><p>Located within IPRA&#39\;s Facility Management (FM) Section\, the Aquatic Committee consists of a group of park district professionals that either specialize or work in and around Aquatic Facilities. &nbsp\;At this meeting we will go over everyone&#39\;s plans for the summer\, including prep work\, hiring tips\, training agendas\, and more! Please have any materials you wish to discuss with your fellow professionals. &nbsp\;If you are interested in joining the committee or simply wish to attend for educational and networking purposes\, we encourage you to register.</p><p><strong fr-original-style="" style="font-weight: 700\;">How to Participate:&nbsp\;</strong>This meeting will be available for IPRA Members in the CommUnity. &nbsp\;Registered members will receive access links the day prior to the meeting.</p><p><meta charset="utf-8"></p><p><span style="color: rgb(184\, 49\, 47)\;"><span style="color: rgb(184\, 49\, 47)\;"><span style="color: rgb(184\, 49\, 47)\;"><span style="color: rgb(184\, 49\, 47)\;">Members can&nbsp\;</span><a fr-original-style="" href="https://illinoisparkandrecreationassociation.growthzoneapp.com/MIC/17417309/16019773/#/MyInfo/AccountContactInfo" rel="noopener noreferrer" style="user-select: auto\; color: inherit\;" target="_blank"><span style="color: rgb(184\, 49\, 47)\;">click here</span></a><span style="color: rgb(184\, 49\, 47)\;">&nbsp\;to log into their accounts and opt-in to the Aquatics Committee list through Lists/Committees. &nbsp\;</span></span></span>Not an IPRA member? Click&nbsp\;</span><a fr-original-style="" href="https://www.ilipra.org/professional-membership/" rel="noopener noreferrer" style="user-select: auto\;" target="_blank"><span style="color: rgb(184\, 49\, 47)\;">here</span></a><span style="color: rgb(184\, 49\, 47)\;">&nbsp\;and join today!&nbsp\;</span></p><p><strong fr-original-style="" style="font-weight: 700\;">CEUs:</strong> Event is not approved for CEUs (Continuing Education Units are for certifications such as CTRS\, CPRE and CPRP certification).</p></body></html>
LOCATION:
UID:e.3289.1422141
SEQUENCE:3
DTSTAMP:20260421T200540Z
URL:https://illinoisparkandrecreationassociation.growthzoneapp.com/affiliate-calendar/Details/aquatics-committee-roundtable-summer-kickoff-1681528?sourceTypeId=Hub
END:VEVENT
END:VCALENDAR
