BEGIN:VCALENDAR
VERSION:2.0
PRODID:-//ChamberMaster//Event Calendar 2.0//EN
METHOD:PUBLISH
X-PUBLISHED-TTL:P1H
REFRESH-INTERVAL:P1H
CALSCALE:GREGORIAN
BEGIN:VTIMEZONE
TZID:America/Chicago
BEGIN:DAYLIGHT
RRULE:FREQ=YEARLY;BYMONTH=3;BYDAY=2SU
DTSTART:20070101T000000
TZOFFSETFROM:-0600
TZOFFSETTO:-0500
TZNAME:Central Daylight Time
END:DAYLIGHT
BEGIN:STANDARD
RRULE:FREQ=YEARLY;BYMONTH=11;BYDAY=1SU
DTSTART:20070101T000000
TZOFFSETFROM:-0500
TZOFFSETTO:-0600
TZNAME:Central Standard Time
END:STANDARD
END:VTIMEZONE
BEGIN:VEVENT
DTSTART;TZID=America/Chicago:20260424T083000
DTEND;TZID=America/Chicago:20260424T160000
X-MICROSOFT-CDO-ALLDAYEVENT:FALSE
SUMMARY:'26 Diversity Education Institute
DESCRIPTION:Join professionals from across Illinois for a day of learning\, networking\, and actionable strategies at the 6th annual Diversity Education Institute\, hosted by IPRA's Diversity (DIV) Section. Whether you're just beginning your DEI journey or looking to refine your agency's approach\, this dynamic program will provide fresh insights\, expert guidance\, and valuable connections.This year's program brings together an exciting mix of sessions designed to spark innovation\, strengthen workplace culture\, and elevate inclusive recreation across every level of your agency. You'll dive into what employers must know in 2026\, sharpen your recruitment and onboarding strategies\, and explore how to support physical activity access for individuals with disabilities from diverse racial and ethnic backgrounds. From navigating generational trends to transforming lessons learned into next-step innovation\, the lineup keeps you learning\, laughing\, and leveling-up all day long. You'll also unpack the power of small actions to drive big impacts in DEI\, gain fresh insight into neurodivergence and dismantling ableism in recreation spaces\, and engaged with the DEI Board of Regents in roundtable discussions and speed sessions.Engage with fellow professionals\, exchange ideas\, and walk away with practical tools to implement in your agency. Don't miss this opportunity to lead the DEI conversation and create lasting impact in your organization and community.Registration deadline is Tuesday\, April 21\, 2026.Location\nFox Valley Park District\, Prisco Community Center\, 150 West Illinois Avenue\, Aurora\, IL 60506.Who Should Attend\nThis session is ideal for professionals in the parks and recreation field across Illinois who are involved in or interested in advancing diversity\, equity\, and inclusion (DEI) within their agencies. Whether you're new to DEI or looking to refine your approach\, this event offers expert insights\, practical tools\, and valuable networking opportunities to help drive meaningful change in your organization and community.Food & Beverage\nRegistration includes morning coffee and a lunch.CEUs\nProgram is approved for 0.4 CEUs and will be awarded to those in attendance for the full day.ScheduleSessionTimeCheck-InCoffee & Networking8:30 - 8:50 a.m.WelcomeOpening Announcements & Sponsor Recognition8:50 - 9:00 a.m.KeynoteStaying Cool Across the Generations9:00 - 10:00 a.m.Concurrent #1Navigating Recruitment & Onboarding10:15 - 11:15 a.m.\nUnderstanding Neurodivergence & Dismantling Ableism10:15 - 11:15 a.m.Concurrent #2What Employers Need to Know in 202611:30a - 12:30p\nFrom Implementation to Innovation11:30a - 12:30pLunchIncluded with Registration12:30 - 1:15 p.m.General SessionRoundtable Discussions with the Board of Regents1:30 - 2:15 p.m.Concurrent #3Supporting Access to Leisure Activities2:30 - 3:30 p.m.\nSmall Actions\, Big Impacts2:30 - 3:30 p.m.Speed SessionDebriefing the Day with the Board of Regents3:30 - 4:00 p.m.\nInterested in Sponsoring?\nThere are 3 levels of sponsorship opportunities available for interested organizations. Click 'Sponsor Registration' at the top of the page or click here to access IPRA's full sponsorship prospectus.
X-ALT-DESC;FMTTYPE=text/html:<!DOCTYPE html><html><head><title></title></head><body aria-disabled="false"><p>Join professionals from across Illinois for a day of learning\, networking\, and actionable strategies at the 6th annual Diversity Education Institute\, hosted by IPRA&rsquo\;s Diversity (DIV) Section. Whether you&#39\;re just beginning your DEI journey or looking to refine your agency&#39\;s approach\, this dynamic program will provide fresh insights\, expert guidance\, and valuable connections.</p><p>This year&#39\;s program brings together an exciting mix of sessions designed to spark innovation\, strengthen workplace culture\, and elevate inclusive recreation across every level of your agency. You&#39\;ll dive into what employers must know in 2026\, sharpen your recruitment and onboarding strategies\, and explore how to support physical activity access for individuals with disabilities from diverse racial and ethnic backgrounds.&nbsp\;</p><p>From navigating generational trends to transforming lessons learned into next-step innovation\, the lineup keeps you learning\, laughing\, and leveling-up all day long. You&#39\;ll also unpack the power of small actions to drive big impacts in DEI\, gain fresh insight into neurodivergence and dismantling ableism in recreation spaces\, and engaged with the DEI Board of Regents in roundtable discussions and speed sessions.</p><p>Engage with fellow professionals\, exchange ideas\, and walk away with practical tools to implement in your agency. Don&rsquo\;t miss this opportunity to lead the DEI conversation and create lasting impact in your organization and community.</p><p><strong fr-original-style="" style="font-weight: 700\;"><span style="color: rgb(184\, 49\, 47)\;">Registration deadline is Tuesday\, April 21\, 2026.</span></strong></p><p><strong fr-original-style="" style="font-weight: 700\;">Location</strong><br>Fox Valley Park District\, Prisco Community Center\, 150 West Illinois Avenue\, Aurora\, IL 60506.</p><p><strong fr-original-style="" style="font-weight: 700\;">Who Should Attend</strong><br>This session is ideal for professionals in the parks and recreation field across Illinois who are involved in or interested in advancing diversity\, equity\, and inclusion (DEI) within their agencies. Whether you&#39\;re new to DEI or looking to refine your approach\, this event offers expert insights\, practical tools\, and valuable networking opportunities to help drive meaningful change in your organization and community.</p><p><strong fr-original-style="" style="font-weight: 700\;">Food &amp\; Beverage</strong><br>Registration includes morning coffee and a lunch.</p><p><strong fr-original-style="" style="font-weight: 700\;">CEUs</strong><br>Program is approved for 0.4 CEUs and will be awarded to those in attendance for the full day.</p><table fr-original-style="width: 88%\; margin-right: calc(12%)\;" style="width: 88%\; margin-right: calc(12%)\; border: 0px\; border-collapse: collapse\; empty-cells: show\; max-width: 100%\;"><tbody><tr fr-original-style="" style="user-select: none\;"><td fr-original-style="width: 18.3367%\;" style="width: 18.3367%\; min-width: 5px\; border: 1px solid rgb(221\, 221\, 221)\; user-select: text\;"><strong fr-original-style="" style="font-weight: 700\;">Schedule</strong></td><td fr-original-style="width: 62.3803%\;" style="width: 62.3803%\; min-width: 5px\; border: 1px solid rgb(221\, 221\, 221)\; user-select: text\;"><strong fr-original-style="" style="font-weight: 700\;">Session</strong></td><td fr-original-style="width: 19.1169%\;" style="width: 19.1169%\; min-width: 5px\; border: 1px solid rgb(221\, 221\, 221)\; user-select: text\;"><strong fr-original-style="" style="font-weight: 700\;">Time</strong></td></tr><tr fr-original-style="" style="user-select: none\;"><td fr-original-style="width: 18.3367%\;" style="width: 18.3367%\; min-width: 5px\; border: 1px solid rgb(221\, 221\, 221)\; user-select: text\;"><span style="font-size: 14px\;">Check-In</span></td><td fr-original-style="width: 62.3803%\;" style="width: 62.3803%\; min-width: 5px\; border: 1px solid rgb(221\, 221\, 221)\; user-select: text\;"><span style="font-size: 14px\;">Coffee &amp\; Networking</span></td><td fr-original-style="width: 19.1169%\;" style="width: 19.1169%\; min-width: 5px\; border: 1px solid rgb(221\, 221\, 221)\; user-select: text\;"><span style="font-size: 14px\;">8:30 - 8:50 a.m.</span></td></tr><tr fr-original-style="" style="user-select: none\;"><td fr-original-style="width: 18.3367%\;" style="width: 18.3367%\; min-width: 5px\; border: 1px solid rgb(221\, 221\, 221)\; user-select: text\;"><span style="font-size: 14px\;">Welcome</span></td><td fr-original-style="width: 62.3803%\;" style="width: 62.3803%\; min-width: 5px\; border: 1px solid rgb(221\, 221\, 221)\; user-select: text\;"><span style="font-size: 14px\;">Opening Announcements &amp\; Sponsor Recognition</span></td><td fr-original-style="width: 19.1169%\;" style="width: 19.1169%\; min-width: 5px\; border: 1px solid rgb(221\, 221\, 221)\; user-select: text\;"><span style="font-size: 14px\;">8:50 - 9:00 a.m.</span></td></tr><tr fr-original-style="" style="user-select: none\;"><td fr-original-style="width: 18.3367%\;" style="width: 18.3367%\; min-width: 5px\; border: 1px solid rgb(221\, 221\, 221)\; user-select: text\;"><span style="font-size: 14px\;">Keynote</span></td><td fr-original-style="width: 62.3803%\;" style="width: 62.3803%\; min-width: 5px\; border: 1px solid rgb(221\, 221\, 221)\; user-select: text\;"><span style="font-size: 14px\;">Staying Cool Across the Generations</span></td><td fr-original-style="width: 19.1169%\;" style="width: 19.1169%\; min-width: 5px\; border: 1px solid rgb(221\, 221\, 221)\; user-select: text\;"><span style="font-size: 14px\;">9:00 - 10:00 a.m.</span></td></tr><tr fr-original-style="" style="user-select: none\;"><td fr-original-style="width: 18.3367%\;" style="width: 18.3367%\; min-width: 5px\; border: 1px solid rgb(221\, 221\, 221)\; user-select: text\;"><span style="font-size: 14px\;">Concurrent #1</span></td><td fr-original-style="width: 62.3803%\;" style="width: 62.3803%\; min-width: 5px\; border: 1px solid rgb(221\, 221\, 221)\; user-select: text\;"><span style="font-size: 14px\;">Navigating Recruitment &amp\; Onboarding</span></td><td fr-original-style="width: 19.1169%\;" style="width: 19.1169%\; min-width: 5px\; border: 1px solid rgb(221\, 221\, 221)\; user-select: text\;"><span style="font-size: 14px\;">10:15 - 11:15 a.m.</span></td></tr><tr fr-original-style="" style="user-select: none\;"><td fr-original-style="width: 18.3367%\;" style="width: 18.3367%\; min-width: 5px\; border: 1px solid rgb(221\, 221\, 221)\; user-select: text\;"><br></td><td fr-original-style="width: 62.3803%\;" style="width: 62.3803%\; min-width: 5px\; border: 1px solid rgb(221\, 221\, 221)\; user-select: text\;"><span style="font-size: 14px\;">Understanding Neurodivergence &amp\; Dismantling Ableism</span></td><td fr-original-style="width: 19.1169%\;" style="width: 19.1169%\; min-width: 5px\; border: 1px solid rgb(221\, 221\, 221)\; user-select: text\;"><span style="font-size: 14px\;">10:15 - 11:15 a.m.</span></td></tr><tr fr-original-style="" style="user-select: none\;"><td fr-original-style="width: 18.3367%\;" style="width: 18.3367%\; min-width: 5px\; border: 1px solid rgb(221\, 221\, 221)\; user-select: text\;"><span style="font-size: 14px\;">Concurrent #2</span></td><td fr-original-style="width: 62.3803%\;" style="width: 62.3803%\; min-width: 5px\; border: 1px solid rgb(221\, 221\, 221)\; user-select: text\;"><span style="font-size: 14px\;">What Employers Need to Know in 2026</span></td><td fr-original-style="width: 19.1169%\;" style="width: 19.1169%\; min-width: 5px\; border: 1px solid rgb(221\, 221\, 221)\; user-select: text\;"><span style="font-size: 14px\;">11:30a - 12:30p</span></td></tr><tr fr-original-style="" style="user-select: none\;"><td fr-original-style="width: 18.3367%\;" style="width: 18.3367%\; min-width: 5px\; border: 1px solid rgb(221\, 221\, 221)\; user-select: text\;"><br></td><td fr-original-style="width: 62.3803%\;" style="width: 62.3803%\; min-width: 5px\; border: 1px solid rgb(221\, 221\, 221)\; user-select: text\;"><span style="font-size: 14px\;">From Implementation to Innovation</span></td><td fr-original-style="width: 19.1169%\;" style="width: 19.1169%\; min-width: 5px\; border: 1px solid rgb(221\, 221\, 221)\; user-select: text\;"><span style="font-size: 14px\;">11:30a - 12:30p</span></td></tr><tr fr-original-style="" style="user-select: none\;"><td fr-original-style="width: 18.3367%\;" style="width: 18.3367%\; min-width: 5px\; border: 1px solid rgb(221\, 221\, 221)\; user-select: text\;"><span style="font-size: 14px\;">Lunch</span></td><td fr-original-style="width: 62.3803%\;" style="width: 62.3803%\; min-width: 5px\; border: 1px solid rgb(221\, 221\, 221)\; user-select: text\;"><span style="font-size: 14px\;">Included with Registration</span></td><td fr-original-style="width: 19.1169%\;" style="width: 19.1169%\; min-width: 5px\; border: 1px solid rgb(221\, 221\, 221)\; user-select: text\;"><span style="font-size: 14px\;">12:30 - 1:15 p.m.</span></td></tr><tr fr-original-style="" style="user-select: none\;"><td fr-original-style="width: 18.3367%\;" style="width: 18.3367%\; min-width: 5px\; border: 1px solid rgb(221\, 221\, 221)\; user-select: text\;"><span style="font-size: 14px\;">General Session</span></td><td fr-original-style="width: 62.3803%\;" style="width: 62.3803%\; min-width: 5px\; border: 1px solid rgb(221\, 221\, 221)\; user-select: text\;"><span style="font-size: 14px\;">Roundtable Discussions with the Board of Regents</span></td><td fr-original-style="width: 19.1169%\;" style="width: 19.1169%\; min-width: 5px\; border: 1px solid rgb(221\, 221\, 221)\; user-select: text\;"><span style="font-size: 14px\;">1:30 - 2:15 p.m.</span></td></tr><tr fr-original-style="" style="user-select: none\;"><td fr-original-style="width: 18.3367%\;" style="width: 18.3367%\; min-width: 5px\; border: 1px solid rgb(221\, 221\, 221)\; user-select: text\;"><span style="font-size: 14px\;">Concurrent #3</span></td><td fr-original-style="width: 62.3803%\;" style="width: 62.3803%\; min-width: 5px\; border: 1px solid rgb(221\, 221\, 221)\; user-select: text\;"><span style="font-size: 14px\;">Supporting Access to Leisure Activities</span></td><td fr-original-style="width: 19.1169%\;" style="width: 19.1169%\; min-width: 5px\; border: 1px solid rgb(221\, 221\, 221)\; user-select: text\;"><span style="font-size: 14px\;">2:30 - 3:30 p.m.</span></td></tr><tr fr-original-style="" style="user-select: none\;"><td fr-original-style="width: 18.3367%\;" style="width: 18.3367%\; min-width: 5px\; border: 1px solid rgb(221\, 221\, 221)\; user-select: text\;"><br></td><td fr-original-style="width: 62.3803%\;" style="width: 62.3803%\; min-width: 5px\; border: 1px solid rgb(221\, 221\, 221)\; user-select: text\;"><span style="font-size: 14px\;">Small Actions\, Big Impacts</span></td><td fr-original-style="width: 19.1169%\;" style="width: 19.1169%\; min-width: 5px\; border: 1px solid rgb(221\, 221\, 221)\; user-select: text\;"><span style="font-size: 14px\;">2:30 - 3:30 p.m.</span></td></tr><tr fr-original-style="" style="user-select: none\;"><td fr-original-style="width: 18.3367%\;" style="width: 18.3367%\; min-width: 5px\; border: 1px solid rgb(221\, 221\, 221)\; user-select: text\;"><span style="font-size: 14px\;">Speed Session</span></td><td fr-original-style="width: 62.3803%\;" style="width: 62.3803%\; min-width: 5px\; border: 1px solid rgb(221\, 221\, 221)\; user-select: text\;"><span style="font-size: 14px\;">Debriefing the Day with the Board of Regents</span></td><td fr-original-style="width: 19.1169%\;" style="width: 19.1169%\; min-width: 5px\; border: 1px solid rgb(221\, 221\, 221)\; user-select: text\;"><span style="font-size: 14px\;">3:30 - 4:00 p.m.</span></td></tr></tbody></table><p style="margin: 0in\; font-family: Calibri\, sans-serif\;"><br></p><p><strong fr-original-style="" style="font-weight: 700\;">Interested in Sponsoring?</strong><br>There are 3 levels of sponsorship opportunities available for interested organizations. Click &#39\;Sponsor Registration&#39\; at the top of the page or <a fr-original-style="" href="https://illinoisparkandrecreationassociation.growthzoneapp.com/ap/CloudFile/Download/PNqnKD5p" rel="noopener noreferrer" style="user-select: auto\;" target="_blank">click here</a> to access IPRA&#39\;s full sponsorship prospectus.&nbsp\;</p></body></html>
LOCATION:Prisco Community Center 150 West Illinois Avenue Fox Valley 60506
UID:e.3289.1412366
SEQUENCE:3
DTSTAMP:20260421T200540Z
URL:https://illinoisparkandrecreationassociation.growthzoneapp.com/affiliate-calendar/Details/26-diversity-education-institute-1669108?sourceTypeId=Hub
END:VEVENT
END:VCALENDAR
